BEGIN:VCALENDAR
VERSION:2.0
PRODID:Spatie calendar-links
BEGIN:VEVENT
UID:mlp_1675
SUMMARY:Plátěná crossbody – pomocnice na větší nákupy
DTSTAMP:20260128T160000Z
DTSTART:20260128T160000Z
DTEND:20260128T183000Z
DESCRIPTION:Ušijte si plátěnou crossbody tašku\, do které se vejde i velký nákup\, a díky pohodlnému nošení jeho tíhu téměř nepocítíte. Veškerý materiál je v ceně workshopu. Vhodné pro dospělé\, kteří umí zcela samostatně šít i obsluhovat šicí stroj (navinout a navléknout nit\, vyměnit jehlu). Cena za materiál 70 Kč.\nPozor! Je třeba si rezervovat místo na e-mailové adrese: atelier@mlp.cz. Vyčkejte na potvrzení rezervace. Akce je určena pro čtenáře s platnou registrací do knihovny.
LOCATION:Jezerka
URL;VALUE=URI:https://www.mlp.cz/cz/akce/platena-crossbody-pomocnice-na-vetsi-nakupy/1675
END:VEVENT
END:VCALENDAR