BEGIN:VCALENDAR
VERSION:2.0
PRODID:Spatie calendar-links
BEGIN:VEVENT
UID:mlp_1940
SUMMARY:Dominikáni
DTSTAMP:20260603T150000Z
DTSTART:20260603T150000Z
DTEND:20260603T160000Z
DESCRIPTION:„Psi Boží“ v kazatelské práci\nCyklus přednášek Jakuba Rychtara: Řád\nI v dalším semestru si budeme vyprávět o dějinách řeholních řádů – o jejich vlivu na náboženský život a kulturu středověké a raně novověké Evropy. Věnovat se budeme tentokrát rytířským řádům a řádům mendikantským (žebravým).\nŘád byl založen sv. Dominikem. Souhlas k jeho ustavení řádem kazatelským dal opět papež Honorius III. Roku 1216. Záhy po svém vzniku se začal rychle šířit do západní Evropy\, jeho nejstarší domy vyrostly ve Francii\, Itálii a Německu. Po smrti sv. Dominika měl již na 60 konventů v osmi provinciích. Řád vznikl jako odezva na rozmáhající se lidová kacířská hnutí stojící v opozici proti oficiálnímu učení církve. V souvislosti s rozvojem měst v průběhu 13. století\, kde nacházel své hlavní uplatnění\, z něj vyrostl účinný nástroj k užšímu připoutávání vyšších i nižších vrstev městského obyvatelstva k církvi. Hlavním posláním řádu se stala studijní\, misijní a kazatelská činnost.\nPřednáší: Jakub Rychtar. Ilustrační obrázek Wikimedia commons\nuložit akci
LOCATION:Ostrovského
URL;VALUE=URI:https://www.mlp.cz/cz/akce/dominikani/1940
END:VEVENT
END:VCALENDAR