BEGIN:VCALENDAR
VERSION:2.0
PRODID:Spatie calendar-links
BEGIN:VEVENT
UID:mlp_2312
SUMMARY:Estonsko – Lotyšsko – Litva
DTSTAMP:20260217T160000Z
DTSTART:20260217T160000Z
DTEND:20260217T170000Z
DESCRIPTION:Cestovatel Jiří Procházka se podělí o své zážitky z dvou cest po Pobaltí\, které absolvoval se svým věrným psím parťákem Fenrim. Přijďte si poslechnout příběhy o putování nádhernou přírodou\, setkáních s místními lidmi i o soužití člověka a psa na cestách.
LOCATION:Ládví
URL;VALUE=URI:https://www.mlp.cz/cz/akce/estonsko-lotyssko-litva/2312
END:VEVENT
END:VCALENDAR