BEGIN:VCALENDAR
VERSION:2.0
PRODID:Spatie calendar-links
BEGIN:VEVENT
UID:mlp_2316
SUMMARY:Dobrodružství v hlubinách oceánu
DTSTAMP:20260131T093000Z
DTSTART:20260131T093000Z
DTEND:20260131T103000Z
DESCRIPTION:Představení pro ty nejmladší i ty nejstarší. Nechte se unést slanou vodou\, poznejte záhadná mořská stvoření a klesněte až na dno\, kde se skrývají ty největší poklady. Hraje Ilegumova divadelní společnost. Pro děti od 3 let\, délka 45 minut.
LOCATION:Petřiny (Sál Petřiny)
URL;VALUE=URI:https://www.mlp.cz/cz/akce/dobrodruzstvi-v-hlubinach-oceanu-0/2316
END:VEVENT
END:VCALENDAR