BEGIN:VCALENDAR
VERSION:2.0
PRODID:Spatie calendar-links
BEGIN:VEVENT
UID:mlp_2346
SUMMARY:Valentýnský swap – výměna knih
DTSTAMP:20260213T080000Z
DTSTART:20260213T080000Z
DTEND:20260213T180000Z
DESCRIPTION:Věděli jste\, že 14. února není jen den svatého Valentýna\, ale také mezinárodní den darování knih? Máte doma knihy\, které už nebudete číst\, a chcete místo nich získat nové knižní úlovky do sbírky nebo obdarovat blízké?\nPřijďte k nám na Korunní\, bude na vás čekat oblíbený knižní swap\, kde můžete udělat radost sobě nebo ostatním vyměněnou knihou. Měníme knihy pro velké i malé čtenáře.\nKnihy určené ke swapování musí být vydané po roce 2000 a musí být v dobrém stavu – neměníme knihy poničené\, potrhané nebo pomalované.
LOCATION:Korunní
URL;VALUE=URI:https://www.mlp.cz/cz/akce/valentynsky-swap-vymena-knih/2346
END:VEVENT
END:VCALENDAR