BEGIN:VCALENDAR
VERSION:2.0
PRODID:Spatie calendar-links
BEGIN:VEVENT
UID:mlp_2382
SUMMARY:Tereza Boučková – Dům v Matoušově ulici
DTSTAMP:20260211T180000Z
DTSTART:20260211T180000Z
DTEND:20260211T193000Z
DESCRIPTION:Autorské čtení Terezy Boučkové z románu Dům v Matoušově ulici a povídání o výjimečných lidech\, kteří v domě žili anebo k němu patřili. Příběh sta let jednoho smíchovského domu\, v němž se zrcadlí historie dvacátého století i to\, co se děje dnes.
LOCATION:Jezerka
URL;VALUE=URI:https://www.mlp.cz/cz/akce/tereza-bouckova-dum-v-matousove-ulici/2382
END:VEVENT
END:VCALENDAR