BEGIN:VCALENDAR
VERSION:2.0
PRODID:Spatie calendar-links
BEGIN:VEVENT
UID:mlp_2450
SUMMARY:Královna Dagmar – česká princezna
DTSTAMP:20260609T150000Z
DTSTART:20260609T150000Z
DTEND:20260609T160000Z
DESCRIPTION:Cestovatelská přednáška\n24. května 1212 zemřela oblíbená dánská královna Dagmar\, původně česká princezna Markéta Drahomíra Přemyslovna. Byla dcerou Přemysla Otakara I. a nevlastní sestrou svaté Anežky České. Když se v Dánsku řekne „královna Dagmar“\, Dánové si připomenou zejména balady o půvabné a šlechetné královně\, kterou velmi milovali. Málokdo z nich však ví\, že pocházela z českých zemí. V jejím hrobě byl údajně nalezen raně středověký křížek\, jehož repliku dostávají dánské holčičky k narozeninám a nevěsty pro štěstí – na památku dobré královny\, která se zastávala slabých a nemocných.\nPokud se o královně Dagmar chcete dozvědět více – včetně velkolepé připomínky 800. výročí jejího úmrtí –\, přijďte si poslechnout Zdeňka Lyčku\, bývalého českého velvyslance v Dánsku\, který je k tomu nadmíru povolaný. Prožil patnáct let na severu Evropy a vydal se na mořském kajaku po stopách této česko‑dánské panovnice\, která odplula v roce 1205 po Labi z Prahy do Lübecku\, kde se konala její svatba s Valdemarem Vítězným.\nPřednáší PhDr. Ing. Zdeněk Lyčka.\nO přednášejícím:\nPhDr. Ing. Zdeněk Lyčka (1958) vystudoval systémové inženýrství na VŠB v Ostravě a moderní filologii se specializací dánština-angličtina na Filozofické fakultě UK v Praze. Před sametovou revolucí pracoval jako programátor\, v r. 1990 nastoupil na MZV. V letech 1991–96 působil na československém (českém) velvyslanectví v Kodani\, v letech 1998–02 byl ředitelem Českého centra ve Stockholmu a v letech 2008–13 velvyslancem ČR v Dánsku. Do r. 2016 byl generálním ředitelem Českých center. Překládá severskou a angloamerickou literaturu a píše autorské texty. Za překlad Grónských mýtů a pověstí Knuda Rasmussena získal tvůrčí odměnu v rámci Ceny Josefa Jungmanna 1998. V českých\, dánských\, grónských\, švédských\, amerických a polských médiích publikoval desítky článků a statí se severskou\, kulturní a krajanskou tematikou. V zimě jezdí na běžkách a v létě na mořském kajaku (dosud sjel Labe\, Dunaj\, Odru\, Rhônu a Rýn\, většinou od pramene do ústí). Čtrnáctkrát absolvoval Vasův běh ve Švédsku a v r. 2010 Arctic Circle Race v Grónsku. V r. 2011 přešel na lyžích grónský ledovec a v r. 2020 přešel po stopách čs. legionářů zamrzlý Bajkal.\nIlustrační obrázek: Wikimedia Commons.
LOCATION:Opatov
URL;VALUE=URI:https://www.mlp.cz/cz/akce/kralovna-dagmar-ceska-princezna/2450
END:VEVENT
END:VCALENDAR