BEGIN:VCALENDAR
VERSION:2.0
PRODID:Spatie calendar-links
BEGIN:VEVENT
UID:mlp_2530
SUMMARY:Jak připravit zahradu na jaro
DTSTAMP:20260219T160000Z
DTSTART:20260219T160000Z
DTEND:20260219T170000Z
DESCRIPTION:Zahrady a zahrádky\nNa přednášce se dozvíte\, jak efektivně a šetrně připravit zahradu na jaro. Součástí je přehled nejdůležitějších úkonů v předjaří a na jaře\, doporučení ekologických postupů i možnosti výběru přípravků a pomůcek dostupných na trhu. Přednáší Lenka Bennerová.
LOCATION:Dům čtení (Ruská)
URL;VALUE=URI:https://www.mlp.cz/cz/akce/jak-pripravit-zahradu-na-jaro/2530
END:VEVENT
END:VCALENDAR