BEGIN:VCALENDAR
VERSION:2.0
PRODID:Spatie calendar-links
BEGIN:VEVENT
UID:mlp_2630
SUMMARY:LEGO: Build the Change
DTSTAMP:20260211T150000Z
DTSTART:20260211T150000Z
DTEND:20260211T170000Z
DESCRIPTION:LEGO: postavme změnu – workshop pro rodiny s dětmi\nJak můžeme pomoci včelám či ledním medvědům? Jakým úskalím čelí? Pojďte s námi změnit svět a pomocí LEGO kostiček postavte řešení na problémy reálného světa. Workshop je určen pro rodiny s dětmi od 6 let.\nPozor! Je třeba si rezervovat místo na telefonním čísle +420 770 130 242 nebo osobně na pobočce.
LOCATION:Petřiny
URL;VALUE=URI:https://www.mlp.cz/cz/akce/lego-build-change/2630
END:VEVENT
END:VCALENDAR