BEGIN:VCALENDAR
VERSION:2.0
PRODID:Spatie calendar-links
BEGIN:VEVENT
UID:mlp_2634
SUMMARY:Swap knih ke dni darovaných knih
DTSTAMP:20260214T093000Z
DTSTART:20260214T093000Z
DTEND:20260214T153000Z
DESCRIPTION:Swap knih k oslavě Mezinárodního dne darování knih\nVěděli jste\, že 14.2. není jen den svatého Valentýna\, ale že je také Mezinárodním dnem darování knih? Přijďte za námi do knihovny a darujte či přijměte knihu během našeho swapu. Současně budete mít možnost napsat ke knize krátké doporučení či komentář pro dalšího čtenáře. Prosíme noste knihy jen v dobrém stavu\, nepoškozené a takové\, které byste si vy sami chtěli vybrat.
LOCATION:Petřiny
URL;VALUE=URI:https://www.mlp.cz/cz/akce/swap-knih-ke-dni-darovanych-knih/2634
END:VEVENT
END:VCALENDAR