BEGIN:VCALENDAR
VERSION:2.0
PRODID:Spatie calendar-links
BEGIN:VEVENT
UID:mlp_2775
SUMMARY:Portugalsko a Madeira - Atlantiku na dosah
DTSTAMP:20260210T180000Z
DTSTART:20260210T180000Z
DTEND:20260210T193000Z
DESCRIPTION:Cestovatelské úterky\nVe spolupráci s CK Periscope Když jsem poprvé vstoupila do Portugalska\, okouzlila mě jeho atmosféra - staré tramvaje v Lisabonu\, útesy bičované vlnami u Atlantiku i pohostinnost místních. Portugalsko je zemí příběhů\, které se ukrývají v úzkých uličkách měst\, mezi korkovými duby na venkově i v každé sklence portského. Portugalsko je\, ve srovnání třeba se Španělskem nebo Itálií\, pro našince stále ještě málo známé. A přitom má tolik co nabídnout! Společně se podíváme nejenom na historická místa\, kde se psala historie\, ale také na divoké ostrovy uprostřed Atlantiku\, nabízející exotické zážitky\, které nikde jinde v Evropě nemají konkurenci.\nPřednáší Lucie Šajnarová.
LOCATION:Ústřední knihovna (Malý sál)
URL;VALUE=URI:https://www.mlp.cz/cz/akce/portugalsko-madeira-atlantiku-na-dosah/2775
END:VEVENT
END:VCALENDAR