BEGIN:VCALENDAR
VERSION:2.0
PRODID:Spatie calendar-links
BEGIN:VEVENT
UID:mlp_2815
SUMMARY:Tajemný svět jeskyní ČR
DTSTAMP:20260217T180000Z
DTSTART:20260217T180000Z
DTEND:20260217T193000Z
DESCRIPTION:V České republice je v současné době evidováno téměř 4000 jeskyní. Řada z nich patří mezi unikáty evropského i světového měřítka. V mnoha jeskyních probíhají výzkumy a to nejen speleologické\, ale i archeologické\, zoologické\, hydrologické ad.\, které přinášejí významné objevy a poznatky. V nedávné době byly nalezeny např. pravěké jeskynní kresby staré až 7000 let a s nimi související archeologický výzkum odkryl překvapující nálezy. Fascinující je také průzkum Hranické propasti - nejhlubší vodou zatopené propasti na světě. O tom všem a mnohém dalším ze světa jeskyní pohovoří v doprovodu řady historických a současných fotografií odborný pracovník Správy jeskyní ČR\, RNDr. Petr Zajíček.
LOCATION:Ústřední knihovna (Malý sál)
URL;VALUE=URI:https://www.mlp.cz/cz/akce/tajemny-svet-jeskyni-cr/2815
END:VEVENT
END:VCALENDAR