BEGIN:VCALENDAR
VERSION:2.0
PRODID:Spatie calendar-links
BEGIN:VEVENT
UID:mlp_2817
SUMMARY:Bretaň a Normandie
DTSTAMP:20260224T180000Z
DTSTART:20260224T180000Z
DTEND:20260224T193000Z
DESCRIPTION:Cestovatelské úterky\nVe spolupráci s CK Periscope \nBretaň a Normandie představují sousední regiony\, které mají mnoho společného\, ale zároveň nemohou být rozdílnější. Oba pojí vynikající gastronomie\, která nabízí to nejlepší z ryb\, plodů moře\, lokální zeleniny i jablek - vzpomeňme světoznámý camembert\, vyhlášené ústřice nebo palačinky naslano i nasladko\, které doplňuje pikantní cidre servírovaný v tradičních keramických miskách. Dlouhé písečné pláže Normandie\, jen tu a tam zvrásněné skalisky\, zvou ke koupání a nedávají znát\, že právě zde probíhala jedna z největších vojenských operací v dějinách. Mimo pobřeží si Normandie zachovává svěže zelenou vlídnou tvář mírně kopcovité krajiny se stády krav a ovcí. Bretaň tuto mírnou přátelskou tvář nastavuje jen ve vnitrozemí. Její pobřeží na první pohled připomene krajinu Britských ostrovů - trsy vřesu a keříky žlutého hlodáše změkčují záludná skaliska\, pod nimiž číhají zrádné oblasti podvodních proudů\, kde v divokých vlnách ztroskotala nejedna loď. Není divu\, že místní pobřeží se pyšní největší koncentrací majáků na světě. Na poli památek mají co nabídnout oba regiony - zatímco Normandie se pyšní elegantním Mont-Saint-Michel a památkami vylodění\, Bretaň zve k objevování tajemných megalitických památek\, malebných vesniček z kamenných domků obklopených trsy hortenzií i výstavných měst\, jež za svou slávu vděčí korzárům i námořnímu obchodu. Bretaň i Normandie okouzlily i nejednoho umělce. Pojďme si oba regiony společně představit a sami uvidíte\, který víc osloví vás. \nPřednáší Kateřina Vorlická.
LOCATION:Ústřední knihovna (Malý sál)
URL;VALUE=URI:https://www.mlp.cz/cz/akce/bretan-normandie/2817
END:VEVENT
END:VCALENDAR