BEGIN:VCALENDAR
VERSION:2.0
PRODID:Spatie calendar-links
BEGIN:VEVENT
UID:mlp_2879
SUMMARY:Plachetnicí na sever
DTSTAMP:20260218T160000Z
DTSTART:20260218T160000Z
DTEND:20260218T170000Z
DESCRIPTION:Historicky první obeplutí Špicberků českou amatérskou plachetnicí „Bagatela“\nAmatérská plachetnice „Bagatela“ se v létě 2025 opět vydala do Arktidy\, aby jako první česká loď v historii obeplula Špicberky. O přírodě\, místních zajímavostech\, setkáních\, přátelství a nezištné vzájemné pomoci plavců bude vyprávět člen posádky „Bagately“ ing. Jaroslav Bican.
LOCATION:Břevnov
URL;VALUE=URI:https://www.mlp.cz/cz/akce/plachetnici-na-sever/2879
END:VEVENT
END:VCALENDAR