BEGIN:VCALENDAR
VERSION:2.0
PRODID:Spatie calendar-links
BEGIN:VEVENT
UID:mlp_2997
SUMMARY:Zemlinského kvarteto:  Les smyčců - 2. koncert 
DTSTAMP:20260506T173000Z
DTSTART:20260506T173000Z
DTEND:20260506T193000Z
DESCRIPTION:Zemlinského kvarteto: Les smyčců - 2. koncert večerů komorní hudby Koncerty série 4plus 2026 (9. ročník)\, účinkuje Zemlinského kvarteto se sólisty.\nHosté: \nBrussels Muzieque (Belgie) (Nadja Nevolovitsch\, Elina Buksha - housle\, Monika Mlynarczyk - viola\, Eduardo Tonietto - violoncello) Program:\nRichard Wagner: Suita z opery Tristan a Isolda pro smyčcové sextetoArnold Schönberg: Zjasněná noc op. 4Felix Mendelssohn-Bartholdy: Smyčcový oktet Es dur op. 20Ilustrační obrázek: archiv Zemlinského kvarteta\, foto ©Christian Palm. \nDalší koncerty cyklu Zemlinského kvarteto:  Les smyčců. 23. 9.\, 25. 11. 2026. Vstupenky zakoupené na termín koncertu 2.12.2026 zůstávají v platnosti na koncert 25.11.2026.
LOCATION:Ústřední knihovna (Velký sál)
URL;VALUE=URI:https://www.mlp.cz/cz/akce/zemlinskeho-kvarteto-les-smyccu-2-koncert/2997
END:VEVENT
END:VCALENDAR