BEGIN:VCALENDAR
VERSION:2.0
PRODID:Spatie calendar-links
BEGIN:VEVENT
UID:mlp_3001
SUMMARY:Zemlinského kvarteto: Les smyčců - 4. koncert
DTSTAMP:20261125T183000Z
DTSTART:20261125T183000Z
DTEND:20261125T203000Z
DESCRIPTION:25. 11. 2026 Koncert Zemlinského kvarteta:  Les smyčců - 4. koncert\n(Koncert je přeložen z 2. 12. 2026. Zakoupené vstupenky zůstávají\nv platnosti.)\n4. koncert večerů komorní hudby Koncerty série 4plus 2026 (9. ročník)\,\núčinkuje Zemlinského kvarteto se sólisty.\n\nHosté:  Josef Klusoň - viola\nTalichovo kvarteto\n(Jan Talich\, Roman Patočka - housle\, Radim Sedmidubský - viola\, Michal\nKaňka - violoncello)\nAdam Honzírek - kontrabas\n\nprogram:\nDmitrij Šostakovič: Dvě věty pro smyčcové okteto op. 11\nErvín Schulhoff: Smyčcový sextet\nMax Bruch: Smyčcový oktet B dur op. 36\n \nIlustrační obrázek: archiv Zemlinského kvarteta\, foto ©Christian Palm.
LOCATION:Ústřední knihovna (Velký sál)
URL;VALUE=URI:https://www.mlp.cz/cz/akce/zemlinskeho-kvarteto-les-smyccu-4-koncert/3001
END:VEVENT
END:VCALENDAR