BEGIN:VCALENDAR
VERSION:2.0
PRODID:Spatie calendar-links
BEGIN:VEVENT
UID:mlp_3036
SUMMARY:Velký Marty 
DTSTAMP:20260210T180000Z
DTSTART:20260210T180000Z
DTEND:20260210T193000Z
DESCRIPTION:Filmový klub: Velký Marty (Marty Supreme\, USA 2025\, Josh Safdie\, české tit.\, 148 min.\, od 15 let) \nMarty Mauser (Timothée Chalamet)\, mladý snílek z New Yorku\, je posedlý stát se světovým šampionem ve stolním tenise\, v 50. letech ne příliš atraktivním sportu. Příběh sleduje jeho posedlou\, někdy až naivní víru v sebe sama\, která ho žene přes New York až do Londýna\, Paříže a Tokia. \nNa projekce Filmového klubu MKP\, Filmového klubu Bio Senior a Filmového klubu Bio Fajnšmekr s platnou legitimací Filmového klubu sleva 20 Kč. Cena legitimace 120 Kč (platí do 31. 12. 2026)\, k prodeji v pokladně MKP.
LOCATION:Ústřední knihovna (Velký sál)
URL;VALUE=URI:https://www.mlp.cz/cz/akce/velky-marty-0/3036
END:VEVENT
END:VCALENDAR