BEGIN:VCALENDAR
VERSION:2.0
PRODID:Spatie calendar-links
BEGIN:VEVENT
UID:mlp_3164
SUMMARY:Pěšky i s pádlem po Zakarpatské Ukrajině a Krymu
DTSTAMP:20260302T160000Z
DTSTART:20260302T160000Z
DTEND:20260302T170000Z
DESCRIPTION:Cestopisná přednáška\nVydáme se po hřebenovkách ukrajinských polonin až na nejvyšší horu Ukrajiny - Hoverlu\, kam už před 100 lety vedly značky Klubu českých turistů. S vodáckou výpravou poznáme kaňony řek Těreblja\, Těresva a Rika. Projdeme se po útesech krymského pobřeží\, uvidíme bahenní sopky\, památky řecké\, turecké\, tatarské\, pravoslavné i pravěké.
LOCATION:Barrandov
URL;VALUE=URI:https://www.mlp.cz/cz/akce/pesky-i-s-padlem-po-zakarpatske-ukrajine-krymu/3164
END:VEVENT
END:VCALENDAR