BEGIN:VCALENDAR
VERSION:2.0
PRODID:Spatie calendar-links
BEGIN:VEVENT
UID:mlp_3556
SUMMARY:Klub koláží na Lužinách: mimo pobočku
DTSTAMP:20260513T140000Z
DTSTART:20260513T140000Z
DTEND:20260513T170000Z
DESCRIPTION:V době uzavření pobočky od 4. do 16. 5. 2026 proběhne akce na jiném místě: CAFE BAR Na Bělidle 29\, 150 00 Praha 5-Anděl.\nKaždý měsíc se setkáváme nad společným tvořením koláží\, u kterého sdílíme naše zážitky z kultury\, nebo si jen tak povídáme. Příjemné posezení s tvořením a teplým čajem\, na kterém rádi přivítáme i úplné nováčky. Nosit s sebou nemusíte nic než dobrou náladu. Materiály i všechny potřebné nástroje máme k dispozici.
LOCATION:Lužiny (CAFE BAR Na Bělidle 29\, 150 00 Praha 5-Anděl)
URL;VALUE=URI:https://www.mlp.cz/cz/akce/klub-kolazi-na-luzinach-mimo-pobocku/3556
END:VEVENT
END:VCALENDAR