BEGIN:VCALENDAR
VERSION:2.0
PRODID:Spatie calendar-links
BEGIN:VEVENT
UID:mlp_3738
SUMMARY:Čtenářský kroužek na Proseku
DTSTAMP:20260514T150000Z
DTSTART:20260514T150000Z
DTEND:20260514T160000Z
DESCRIPTION:Srdečně vás zveme na přátelské setkání dospělých čtenářů\, kde budeme společně sdílet dojmy z našich oblíbených knih. Přijďte si popovídat o literatuře\, objevit nové inspirace a strávit příjemný čas ve společnosti lidí\, kteří milují čtení stejně jako vy. Těšíme se na vás!
LOCATION:Prosek
URL;VALUE=URI:https://www.mlp.cz/cz/akce/ctenarsky-krouzek-na-proseku/3738
END:VEVENT
END:VCALENDAR