BEGIN:VCALENDAR
VERSION:2.0
PRODID:Spatie calendar-links
BEGIN:VEVENT
UID:mlp_3744
SUMMARY:Pohádková babička na Proseku
DTSTAMP:20260526T150000Z
DTSTART:20260526T150000Z
DTEND:20260526T160000Z
DESCRIPTION:Přijďte si poslechnout čtení pohádkové babičky do naší pobočky. Předčítání z oblíbených knížek pro děti je určeno předškolním posluchačům a dětem mladšího školního věku.
LOCATION:Prosek
URL;VALUE=URI:https://www.mlp.cz/cz/akce/pohadkova-babicka-na-proseku/3744
END:VEVENT
END:VCALENDAR