BEGIN:VCALENDAR
VERSION:2.0
PRODID:Spatie calendar-links
BEGIN:VEVENT
UID:mlp_3768
SUMMARY:Osudy vnučky císařovny Sisi: Rebelka Erzsi
DTSTAMP:20260317T160000Z
DTSTART:20260317T160000Z
DTEND:20260317T173000Z
DESCRIPTION:Městská knihovna v Praze a nakladatelství Grada Vás zvou na křest knihy Osudy vnučky císařovny Sisi - Rebelka Erzsi a představení publikace autorkou Dagmar Beňakovou. Seznamte se s neuvěřitelným životem vnučky císařovny Sisi.\nAlžběta Marie\, zvaná Erzsi\, byla krásná a extravagantní po babičce Sisi a vášnivá po otci\, korunním princi Rudolfovi. Proč se vzdala možnosti následnictví habsburského trůnu a jak si vysloužila přezdívku „rudá arcivévodkyně“? Její neobyčejně dramatický životní příběh propletený s dramatickým 20. stoletím představí autorka Dagmar Beňaková.\nNa místě bude k zakoupení jak novinka\, tak i předchozí knihy Dagmar Beňakové.\nO autorce:\nJUDr. PhDr. Dagmar Beňaková\, Ph.D.\, LL.M.\, vystudovala Právnickou fakultu Univerzity Karlovy v Praze a rovněž Fakultu sociálních věd Univerzity Karlovy v Praze (obor německá a rakouská studia). Absolvovala řadu zahraničních pobytů\, během nichž se věnovala právu\, historii i cizím jazykům. Je zaměstnána na MZV ČR. \nJiž od dětství se zabývá životem rakouské císařovny Alžběty\, zvané Sisi\, a putuje po jejích stopách. Odbornému výzkumu tématu se za použití cizojazyčných zdrojů (psaných především v němčině\, dále v angličtině\, francouzštině\, italštině a španělštině) věnuje více než 25 let. V archivech a knihovnách studuje primární prameny\, psané často i kurentem\, který se pro účely svého bádání naučila číst. V poslední době se zaměřuje především na členy Sisiny rodiny\, zejména její vnučku Alžbětu Marii\, zvanou Erzsi.\nMohlo by vás zajímat\nKnihy Dagmar Beňakové v knihovněKnihy Dagmar Beňakové na stránkách nakladatelství Grada
LOCATION:Ústřední knihovna (Záliv)
URL;VALUE=URI:https://www.mlp.cz/cz/akce/osudy-vnucky-cisarovny-sisi-rebelka-erzsi/3768
END:VEVENT
END:VCALENDAR