BEGIN:VCALENDAR
VERSION:2.0
PRODID:Spatie calendar-links
BEGIN:VEVENT
UID:mlp_4560
SUMMARY:Quilling šperky a přání z papírových proužků
DTSTAMP:20260417T113000Z
DTSTART:20260417T113000Z
DTEND:20260417T140000Z
DESCRIPTION:Jarní tvořivá dílna\nPřijďte si technikou stáčení proužků barevného papíru vytvořit originální bižuterii v podobě náušnic nebo brože. Můžete si zhotovit i přáníčko. Pomůcky a materiál jsou k dispozici. Dílnu vede Dagmar Volencová.\nPozor! Je třeba si rezervovat místo na telefonním čísle +420 770 130 242 nebo osobně na pobočce.
LOCATION:Petřiny
URL;VALUE=URI:https://www.mlp.cz/cz/akce/quilling-sperky-prani-z-papirovych-prouzku/4560
END:VEVENT
END:VCALENDAR