BEGIN:VCALENDAR
VERSION:2.0
PRODID:Spatie calendar-links
BEGIN:VEVENT
UID:mlp_4562
SUMMARY:Book Club: příroda a ekologie
DTSTAMP:20260424T150000Z
DTSTART:20260424T150000Z
DTEND:20260424T164500Z
DESCRIPTION:Book Club: příroda a ekologie\nDuben je ve znamení Dne Země a tak vás zveme na přátelské setkání nad výjimečnou sérií norské autorky Maja Lunde – Klimatické kvarteto. Společně si budeme povídat o knihách: Historie včel (2017)\, Modrá (2018)\, Kůň Převalského (2021)\, Sen o stromě (2024).\nMožná si říkáte – další knížky o klimatu? Ale tahle série není o číslech\, grafech ani moralizování. Je především o lidech. O rodičích a dětech. O strachu i naději. O tom\, co jsme ochotni obětovat – a co už ne.\nProč si je přečíst?\nProtože vás pohltí silné příběhy napříč časem – od minulosti až po blízkou budoucnost.\nProtože vás přimějí přemýšlet\, aniž by vás poučovaly.\nProtože ukazují\, že klimatická změna není abstraktní téma\, ale něco\, co se dotýká vztahů\, rodiny i každodenních rozhodnutí.\nA možná i proto\, že po dočtení zůstanete o něco citlivější – k přírodě i k sobě navzájem.\nNa našem setkání nebude žádná „správná interpretace“ – jen sdílení\, otázky a bezpečný prostor pro různé pohledy. Ať už jste četli celý kvartet\, nebo jen jednu z knih\, jste vítáni.\nPřijďte si popovídat\, inspirovat se a strávit příjemný čas nad literaturou\, která má co říct právě teď.\nPozor! Je třeba si rezervovat místo na telefonním čísle +420 770 130 242 nebo osobně na pobočce.
LOCATION:Petřiny
URL;VALUE=URI:https://www.mlp.cz/cz/akce/book-club-priroda-ekologie/4562
END:VEVENT
END:VCALENDAR