BEGIN:VCALENDAR
VERSION:2.0
PRODID:Spatie calendar-links
BEGIN:VEVENT
UID:mlp_4578
SUMMARY:Po stopách císařovny Sisi 
DTSTAMP:20260423T151700Z
DTSTART:20260423T151700Z
DTEND:20260423T164700Z
DESCRIPTION:Autorské čtení Dagmar Beňakové\nAutorka pěti knih o rakouské císařovně Alžbětě\, zvané Sisi\, vám představí mnoho tváří a talentů této vášnivé cestovatelky\, odvážné rebelky a módní ikony 19. století. Vypravíte se na místa blízká jejímu srdci\, poznáte její záliby a začtete se do jejích dosud nezveřejněných dopisů.\nO autorce:\nJUDr. PhDr. Dagmar Beňaková\, Ph.D.\, LL.M.\, vystudovala Právnickou fakultu Univerzity Karlovy v Praze a rovněž Fakultu sociálních věd Univerzity Karlovy v Praze (obor německá a rakouská studia). Absolvovala řadu zahraničních pobytů\, během nichž se věnovala právu\, historii i cizím jazykům. Je zaměstnána na MZV ČR. \nJiž od dětství se zabývá životem rakouské císařovny Alžběty\, zvané Sisi\, a putuje po jejích stopách. Odbornému výzkumu tématu se za použití cizojazyčných zdrojů (psaných především v němčině\, dále v angličtině\, francouzštině\, italštině a španělštině) věnuje více než 25 let. V archivech a knihovnách studuje primární prameny\, psané často i kurentem\, který se pro účely svého bádání naučila číst. V poslední době se zaměřuje především na členy Sisiny rodiny\, zejména její vnučku Alžbětu Marii\, zvanou Erzsi.\nMohlo by vás zajímat\nKnihy Dagmar Beňakové v knihovněKnihy Dagmar Beňakové na stránkách nakladatelství Grada
LOCATION:Hradčany
URL;VALUE=URI:https://www.mlp.cz/cz/akce/po-stopach-cisarovny-sisi/4578
END:VEVENT
END:VCALENDAR