BEGIN:VCALENDAR
VERSION:2.0
PRODID:Spatie calendar-links
BEGIN:VEVENT
UID:mlp_4584
SUMMARY:Tajemná obora Hvězda 2: brouci a motýli
DTSTAMP:20260423T150000Z
DTSTART:20260423T150000Z
DTEND:20260423T164500Z
DESCRIPTION:Starobylý les a louky v oboře Hvězda jsou útočištěm překvapivě velkého množství rozmanité hmyzí fauny. Přišli na to badatelé už na sklonku 18. století a platí to až do dnešních dnů. Výjimečnou biodiverzitu Hvězdy a její některé živé vzácnosti si představíme na příkladu brouků a motýlů.\n\nPřednáší Petr Heřman a Pavel Špryňar v rámci cyklu přednášek od Agentury ochrany přírody a krajiny České republiky.\nPozor! Je třeba si rezervovat místo na telefonním čísle +420 770 130 242 nebo osobně na pobočce.
LOCATION:Petřiny
URL;VALUE=URI:https://www.mlp.cz/cz/akce/tajemna-obora-hvezda-2-brouci-motyli/4584
END:VEVENT
END:VCALENDAR