BEGIN:VCALENDAR
VERSION:2.0
PRODID:Spatie calendar-links
BEGIN:VEVENT
UID:mlp_4598
SUMMARY:Stromy kolem nás
DTSTAMP:20260408T150000Z
DTSTART:20260408T150000Z
DTEND:20260408T163000Z
DESCRIPTION:Povídání o významných stromech Prahy 10\nStromy nesou zajímavé příběhy a poselství. Zelené velikány vás mohou inspirovat i k jarním vycházkám do pražské přírody. Přednášejícím bude dendrolog Aleš Rudl\, který se dlouhodobě zabývá popularizací památných a významných stromů Prahy. Je autorem webu: www.prazskestromy.cz. \nAkce je financována MČ Praha 10 v rámci environmentální osvěty.
LOCATION:Malešice
URL;VALUE=URI:https://www.mlp.cz/cz/akce/stromy-kolem-nas/4598
END:VEVENT
END:VCALENDAR