BEGIN:VCALENDAR
VERSION:2.0
PRODID:Spatie calendar-links
BEGIN:VEVENT
UID:mlp_4708
SUMMARY:Bylinky: pěstování\, zpracování\, použití
DTSTAMP:20260407T150000Z
DTSTART:20260407T150000Z
DTEND:20260407T163000Z
DESCRIPTION:Inspirativní přednáška Vladimíra Čížka\, ve které se s námi podělí o cenné zkušenosti s pěstováním a nabídne i praktické rady\, jak využít léčivou sílu bylin pro podporu zdraví a celkové pohody. Přijďte načerpat nové znalosti\, inspiraci a objevit kouzlo přírodní léčby.
LOCATION:Prosek
URL;VALUE=URI:https://www.mlp.cz/cz/akce/bylinky-pestovani-zpracovani-pouziti/4708
END:VEVENT
END:VCALENDAR