BEGIN:VCALENDAR
VERSION:2.0
PRODID:Spatie calendar-links
BEGIN:VEVENT
UID:mlp_4728
SUMMARY:Beseda s herečkou Jitkou Smutnou
DTSTAMP:20260423T150000Z
DTSTART:20260423T150000Z
DTEND:20260423T163000Z
DESCRIPTION:Společnost bratří Čapků uvádí besedu s herečkou Jitkou Smutnou\nJitka Smutná hraje už řadu let ve Vršovickém divadle Mana úspěšně roli Matky v Čapkově stejnojmenném dramatu. Ještě déle účinkuje inscenaci Čapek\, která už dosáhla sto třiceti repríz a stala se nepřehlédnutelným fenoménem na pražské divadelní scéně. O své cestě k těmto inscenacím\, ale i o vztahu k Čapkovu dílu a o jeho proměnách v čase se dozvíte více na podvečerním neformálním setkání s výjimečnou herečkou\, která má za sebou bohatou uměleckou kariéru.
LOCATION:Ústřední knihovna (Malý sál)
URL;VALUE=URI:https://www.mlp.cz/cz/akce/beseda-s-hereckou-jitkou-smutnou/4728
END:VEVENT
END:VCALENDAR