BEGIN:VCALENDAR
VERSION:2.0
PRODID:Spatie calendar-links
BEGIN:VEVENT
UID:mlp_4856
SUMMARY:Fantasy beseda: Jakub Hoza
DTSTAMP:20260423T150000Z
DTSTART:20260423T150000Z
DTEND:20260423T160000Z
DESCRIPTION:Srdečně zveme na v pořadí třetí fantasy a sci-fi besedu\, kde vystoupí Jakub Hoza.\nAutor je známý pro knihy plné temné magie\, apokalyps nebo třeba žánru „splatter punk“. Na svém kontě má řadu úspěšných knižních sérií\, mezi něž patří například knihy Bez návratu či Spálená země. V únoru tohoto roku mu vyšla novinka laděná do tematiky nestvůr a kuchařiny – U Hlavy mantichory\, jejíž zákulisí představí čtenářům na naší besedě. Akce se odehrává na galerii A.
LOCATION:Smíchov
URL;VALUE=URI:https://www.mlp.cz/cz/akce/fantasy-beseda-jakub-hoza/4856
END:VEVENT
END:VCALENDAR