BEGIN:VCALENDAR
VERSION:2.0
PRODID:Spatie calendar-links
BEGIN:VEVENT
UID:mlp_4990
SUMMARY:Indonéský večer
DTSTAMP:20260513T170000Z
DTSTART:20260513T170000Z
DTEND:20260513T193000Z
DESCRIPTION:Návštěvníci se mohou těšit na večer plný tradiční indonéské hudby\, tanců z různých ostrovů i divadelní představení Rámájana\, které přiblíží bohatou kulturu tohoto souostroví. Atmosféru doplní nabídka tradičních jídel a výrobků. \nVečer má zároveň benefiční charakter - jeho výtěžek podpoří rozvojové projekty organizace Kintari\, která už 20 let pomáhá dětem v Indonésii získat přístup ke vzdělání. Přijďte prožít výjimečný kulturní zážitek a zároveň podpořit dobrou věc.
LOCATION:Ústřední knihovna (Velký sál)
URL;VALUE=URI:https://www.mlp.cz/cz/akce/indonesky-vecer/4990
END:VEVENT
END:VCALENDAR