BEGIN:VCALENDAR
VERSION:2.0
PRODID:Spatie calendar-links
BEGIN:VEVENT
UID:mlp_5938
SUMMARY:Pomoc nezná hranic aneb Záchrana koček v Chorvatsku
DTSTAMP:20260506T153000Z
DTSTART:20260506T153000Z
DTEND:20260506T170000Z
DESCRIPTION:Cesty světem\, cesty v nás aneb potkávání v knihovně\nNevšední cestopisná přednáška o lásce ke zvířatům a touze pomáhat jim i mimo Česko\nJakub Večeřa\, který se Chorvatsku věnuje profesně a během posledních let ho sám procestoval\, razí heslo\, že každé zvíře si zaslouží pomoc\, bez ohledu na to\, odkud pochází. Chorvatsko má – stejně jako další balkánské země – vedle přírodních krás i svou odvrácenou tvář\, neuspokojivou situaci opuštěných zvířat. I zde se však díky (nejen místním) dobrovolníkům pomalu blýská na lepší časy\, proto nečekejte jen samé smutné zprávy\, naopak. \nV rámci povídání nás Jakub vezme do trochu jiného Chorvatska a ukáže nám\, že i zdánlivě drobná pomoc stovky kilometrů od domova mění životy – nejen kočičí\, ale i ty lidské. A jako bonus se vydáme na jiné balkánské místo\, které je pro každého milovníka koček doslova rájem na Zemi.
LOCATION:Ústřední knihovna (Záliv)
URL;VALUE=URI:https://www.mlp.cz/cz/akce/pomoc-nezna-hranic-aneb-zachrana-kocek-v-chorvatsku/5938
END:VEVENT
END:VCALENDAR