BEGIN:VCALENDAR
VERSION:2.0
PRODID:Spatie calendar-links
BEGIN:VEVENT
UID:mlp_6603
SUMMARY:Výtvarná dílna: květen 2026
DTSTAMP:20260506T130000Z
DTSTART:20260506T130000Z
DTEND:20260506T150000Z
DESCRIPTION:Květnová výtvarná dílna plná květů\, barev\, slunce a radosti zve všechny\, kteří si chtějí užít příjemné tvořivé odpoledne. Společně se necháme inspirovat přírodou\, barvami i fantazií a vytvoříme si malé radosti\, které rozzáří den.\nDílna je vhodná pro děti i dospělé.
LOCATION:Velký mlýn
URL;VALUE=URI:https://www.mlp.cz/cz/akce/vytvarna-dilna-kveten-2026/6603
END:VEVENT
END:VCALENDAR