BEGIN:VCALENDAR
VERSION:2.0
PRODID:Spatie calendar-links
BEGIN:VEVENT
UID:mlp_6691
SUMMARY:Méďa Tulák a Emma ve světě fantazie
DTSTAMP:20260529T120000Z
DTSTART:20260529T120000Z
DTEND:20260529T130000Z
DESCRIPTION:Emma je velmi pilná holčička\, která ráda vymalovává bez přetahování. Co se ale stane\, když jednoho dne přetáhne? Po pohádce následuje krátká výtvarná dílna. Pro děti předškolního věku a jejich (pra)rodiče.
LOCATION:Dům čtení (Ruská)
URL;VALUE=URI:https://www.mlp.cz/cz/akce/meda-tulak-emma-ve-svete-fantazie/6691
END:VEVENT
END:VCALENDAR