BEGIN:VCALENDAR
VERSION:2.0
PRODID:Spatie calendar-links
BEGIN:VEVENT
UID:mlp_6723
SUMMARY:Příběhová zahrada: robot
DTSTAMP:20260506T130000Z
DTSTART:20260506T130000Z
DTEND:20260506T140000Z
DESCRIPTION:Co dělat\, když se robot zavaří? Tchoř pokazil vynález sůvičky\, a zavařený robot teď zavařuje všechno\, co se mu postaví do cesty. Povede se hrdinům vrátit do lesa klid a mír?
LOCATION:Zahradní Město
URL;VALUE=URI:https://www.mlp.cz/cz/akce/pribehova-zahrada-robot/6723
END:VEVENT
END:VCALENDAR