BEGIN:VCALENDAR
VERSION:2.0
PRODID:Spatie calendar-links
BEGIN:VEVENT
UID:mlp_6795
SUMMARY:Skicák jako umělecké dílo
DTSTAMP:20260505T153000Z
DTSTART:20260505T153000Z
DTEND:20260505T173000Z
DESCRIPTION:Výroba praktického skicáku s tvrdými deskami. Jednoduchá knihařská technika s důrazem na kreativitu při navrhování desek. Budeme pracovat s koláží či vlastní autorskou tvorbou\, nebo kombinací. Tvořivost zde nemá hranic :) dovnitř desek dáme kvalitní kreslicí papíry a skicák je na světě.\nNáklady na materiál 70 Kč.\nPozor! Je třeba si rezervovat místo na e-mailové adrese: um@mlp.cz.\nAkce je určena pro čtenáře s platnou registrací do knihovny.
LOCATION:Ústřední knihovna - Kreativní centrUM
URL;VALUE=URI:https://www.mlp.cz/cz/akce/skicak-jako-umelecke-dilo/6795
END:VEVENT
END:VCALENDAR