BEGIN:VCALENDAR
VERSION:2.0
PRODID:Spatie calendar-links
BEGIN:VEVENT
UID:mlp_6881
SUMMARY:Stromy ve městech\, města ve stromech
DTSTAMP:20260511T133000Z
DTSTART:20260511T133000Z
DTEND:20260511T150000Z
DESCRIPTION:Seniorské pondělky\nČasto slýcháme o nezastupitelné funkci\, kterou stromy ve městech mají. Přitom se vlivem klimatických změn v posledních letech stále více projevuje odumírání stromů ve městech. Na prakticky pojaté přednášce Lenky Bennerové zjistíte více o stromech samotných a o tom\, jak s nimi každý z nás může nakládat. Součástí kurzu je i povedený dokumentární film Zasaďme se o stromy! \nPozor! Je třeba si rezervovat místo na e-mailové adrese: jan.richter@mlp.cz.\nAkce je přístupná všem zájemcům bez rozdílu věku. Vstup volný do naplnění kapacity Klubovny.
LOCATION:Ústřední knihovna (Klubovna)
URL;VALUE=URI:https://www.mlp.cz/cz/akce/stromy-ve-mestech-mesta-ve-stromech/6881
END:VEVENT
END:VCALENDAR