BEGIN:VCALENDAR
VERSION:2.0
PRODID:Spatie calendar-links
BEGIN:VEVENT
UID:mlp_6885
SUMMARY:Amedeo Modigliani - legendární umělec precizní modulace
DTSTAMP:20260504T150000Z
DTSTART:20260504T150000Z
DTEND:20260504T163000Z
DESCRIPTION:Světový impresionismus a postimpresionismus \nItalský malíř židovského původu\, kterého zaujalo téma ženy. Portréty a umělecké akty\, jež vytvořil\, jsou oslavou jejich krásy. Patřil k umělcům\, kteří tvořili v Paříži na přelomu 19. a 20. století a byl ovlivněn atmosférou uměleckého hnutí modernistů. \nPřednáší PhDr. Jana Jebavá.
LOCATION:Ústřední knihovna (Malý sál)
URL;VALUE=URI:https://www.mlp.cz/cz/akce/amedeo-modigliani-legendarni-umelec-precizni-modulace/6885
END:VEVENT
END:VCALENDAR