BEGIN:VCALENDAR
VERSION:2.0
PRODID:Spatie calendar-links
BEGIN:VEVENT
UID:mlp_6887
SUMMARY:Bosna a Hercegovina - blízká i vzdálená
DTSTAMP:20260505T170000Z
DTSTART:20260505T170000Z
DTEND:20260505T183000Z
DESCRIPTION:Cestovatelské úterky\nVe spolupráci s CK Periscope \nBosna a Hercegovina je krásná\, originální země a zároveň stále slepé místo na cestovatelské mapě Evropy. Na prostoru zhruba velkém jako Čechy se rozkládá země velkolepé přírody. Jako cestovatelé jste obklopeni všudypřítomnými horami\, pohybujete se v ostrých údolích a rozlehlých dolinách podél divokých křišťálových řek. Obdivujete opravdu masivní vodopády s neuvěřitelně ledovou vodou. Pokud se chcete seznámit s impozantní přírodou\, poznat vstřícnost a pohostinnost místních obyvatel a zajímá Vás setkání s islámem a pravoslavím\, zkrátka pokud se chcete naladit na tajemně krásnou frekvenci Bosny\, přijměte mé pozvání na mou cestovatelskou přednášku. \nPřednáší Jan Huleja.
LOCATION:Ústřední knihovna (Malý sál)
URL;VALUE=URI:https://www.mlp.cz/cz/akce/bosna-hercegovina-blizka-i-vzdalena/6887
END:VEVENT
END:VCALENDAR