BEGIN:VCALENDAR
VERSION:2.0
PRODID:Spatie calendar-links
BEGIN:VEVENT
UID:mlp_6889
SUMMARY:Co vám lékaři neřekli
DTSTAMP:20260506T150000Z
DTSTART:20260506T150000Z
DTEND:20260506T163000Z
DESCRIPTION:Přednáška přináší odpovědi na některé otázky\, které si klade každý\, kdo se zajímá o své zdraví. Informace vycházejí z autorovy dvacetileté praxe ve funkční a holistické medicíně\, tedy v komplexním přístupu\, který nevidí člověka jen jako soubor jednotlivých částí\, ale vnímá ho jako celek. \nPřednáší MUDr. David Frej.
LOCATION:Ústřední knihovna (Malý sál)
URL;VALUE=URI:https://www.mlp.cz/cz/akce/co-vam-lekari-nerekli/6889
END:VEVENT
END:VCALENDAR