BEGIN:VCALENDAR
VERSION:2.0
PRODID:Spatie calendar-links
BEGIN:VEVENT
UID:mlp_6891
SUMMARY:Péče o prsa jinak
DTSTAMP:20260513T150000Z
DTSTART:20260513T150000Z
DTEND:20260513T163000Z
DESCRIPTION:Cyklus přírodní cesty ke zdraví ve spolupráci s časopisem Meduňka \nOtevřeně o tabuizovaném tématu v souvislostech celého těla a psychosomatiky. Představíme 13 okruhů primární\, skutečné prevence a pomůžeme v orientaci v oblasti prevence sekundární (Mamografie\, termografie nebo jinak?). Součástí prožitkové přednášky pro zdravá prsa a spokojený život v ženském těle bude praktická ukázka péče a prostor pro vaše otázky.  řednáší Mgr. Iveta Machková Kučerová.\nMohlo by vás zajímat\nVíce o osvětovém projektu Péče o prsa najdete tady: online.zivaradost.cz/prsa26
LOCATION:Ústřední knihovna (Malý sál)
URL;VALUE=URI:https://www.mlp.cz/cz/akce/pece-o-prsa-jinak/6891
END:VEVENT
END:VCALENDAR