BEGIN:VCALENDAR
VERSION:2.0
PRODID:Spatie calendar-links
BEGIN:VEVENT
UID:mlp_6893
SUMMARY:Tváře žen - ideál\, emoce a příběh v benátském malířství
DTSTAMP:20260519T170000Z
DTSTART:20260519T170000Z
DTEND:20260519T183000Z
DESCRIPTION:Velikáni italské renesance \nPřednáška představí fascinující svět ženských ikonografických motivů v benátském umění - od smyslné Venuše\, přes ctnostnou Lukrécii až po kající Magdalénu. Na příkladech děl benátských mistrů ukáže\, jak obrazy žen odrážely ideály krásy\, moci i morálky. Zaměří se také na to\, jak mistři jako Tizian\, Veronese a Tintoretto či další tyto motivy ztvárňovali prostřednictvím barvy\, světla a malířského rukopisu. \nPřednáší PhDr. Ing. Marie Vymazalová\, Ph.D.\nPokračování cyklu: 2.6. Madony.
LOCATION:Ústřední knihovna (Malý sál)
URL;VALUE=URI:https://www.mlp.cz/cz/akce/tvare-zen-ideal-emoce-pribeh-v-benatskem-malirstvi/6893
END:VEVENT
END:VCALENDAR