BEGIN:VCALENDAR
VERSION:2.0
PRODID:Spatie calendar-links
BEGIN:VEVENT
UID:mlp_6895
SUMMARY:Poslední šéf špionáže ČSSR
DTSTAMP:20260527T170000Z
DTSTART:20260527T170000Z
DTEND:20260527T183000Z
DESCRIPTION:Večer s badateli \nPřijďte si poslechnout vzpomínky autora knihy Alias Kainar\, ve které přibližuje působení u československé rozvědky. Reportér a spisovatel Jaroslav Mareš\, autor projektu Badatelé\, probírá se svými hosty největší záhady naší doby. Hostem bude Vilém Václavek\, poslední šéf zahraniční špionáže ČSSR.
LOCATION:Ústřední knihovna (Malý sál)
URL;VALUE=URI:https://www.mlp.cz/cz/akce/posledni-sef-spionaze-cssr/6895
END:VEVENT
END:VCALENDAR