BEGIN:VCALENDAR
VERSION:2.0
PRODID:Spatie calendar-links
BEGIN:VEVENT
UID:mlp_6903
SUMMARY:První vzducholoď nad Prahou
DTSTAMP:20260513T163000Z
DTSTART:20260513T163000Z
DTEND:20260513T180000Z
DESCRIPTION:Vzducholoď nad stověžatou Prahou a neuskutečněný projekt přístavu vzdušných lodí na Strahově.\nNa počátku 20. století mnoho architektů i leteckých konstruktérů bylo natolik ovlivněno vzducholoděmi\, které oproti letadlům těžších vzduchu dosahovaly mimořádných výkonů\, že je viděli jako budoucnost létání. \nZachovala se řada fotografií i krátký film z průletu vzducholodě nad středem Prahy. Nejen o těchto událostech bude přednášet Michal Plavec z Národního technického muzea.\nFoto: Vzducholoď LZ-127 Zeppelin 25. srpna 1930 nad Prahou. Archiv rodiny Vodseďálkových.
LOCATION:Petřiny (Sál Petřiny)
URL;VALUE=URI:https://www.mlp.cz/cz/akce/prvni-vzducholod-nad-prahou/6903
END:VEVENT
END:VCALENDAR