BEGIN:VCALENDAR
VERSION:2.0
PRODID:Spatie calendar-links
BEGIN:VEVENT
UID:mlp_6905
SUMMARY:Žabák Žak a rak Jak
DTSTAMP:20260516T083000Z
DTSTART:20260516T083000Z
DTEND:20260516T093000Z
DESCRIPTION:Cirkusová pohádka o tom jak nerozluční kamarádi žabák Žak a rak Jak s pomocí mistra krokodýla Krokodiliniho zvítězili nad nudou. Hraje divadlo Krab Pro děti od 3 let\, délka 45 minut.
LOCATION:Petřiny (Sál Petřiny)
URL;VALUE=URI:https://www.mlp.cz/cz/akce/zabak-zak-rak-jak/6905
END:VEVENT
END:VCALENDAR