BEGIN:VCALENDAR
VERSION:2.0
PRODID:Spatie calendar-links
BEGIN:VEVENT
UID:mlp_6907
SUMMARY:Grónskem s Vilémem Veverkou
DTSTAMP:20260520T163000Z
DTSTART:20260520T163000Z
DTEND:20260520T180000Z
DESCRIPTION:Grónsko v zimě - nejchladnější ostrov pohledem fotografa. Po opakovaných fotografických cestách na Island a Špicberky se v roce 2024 vydal do Grónska\, konkrétně na jeho západní pobřeží. Sám cestovatel Vilém Veverka k tomu říká: "Grónsko\, které jsem záměrně navštívil v zimě\, považuji za jednu z nejautentičtějších krajin\, jaké lze dnes zažít. Jen těžko si lze představit\, že by se na takové místo vydal člověk bez fotoaparátu. Mých přibližně deset dní bylo spíše intenzivní první zkušeností než vyčerpávající cestou. Přednášku proto chápu jako úvod pro ty\, kteří o cestě do Grónska uvažují\, i pro ty\, které tato krajina a kultura zajímají obecně. Grónsko je specifická a odlehlá destinace\, která se vymyká nejen svými rozměry a klimatem\, ale i samotnými podmínkami pro fotografování - včetně nároků na techniku. Zažít Grónsko jednou nestačí. Právě díky fotografii jsem však tuto cestu vnímal intenzivněji a při přípravě přednášky se k ní znovu vracím. Fotografie jsou pak důkazem\, že se mi nic z této "trochu jiné planety" nezdálo." Vilém Veverka není jen cestovatel a fotograf\, ale především špičkový český hobojista\, známý z koncertních pódií.
LOCATION:Petřiny (Sál Petřiny)
URL;VALUE=URI:https://www.mlp.cz/cz/akce/gronskem-s-vilemem-veverkou/6907
END:VEVENT
END:VCALENDAR