BEGIN:VCALENDAR
VERSION:2.0
PRODID:Spatie calendar-links
BEGIN:VEVENT
UID:mlp_6913
SUMMARY:Dášeňka
DTSTAMP:20260503T140000Z
DTSTART:20260503T140000Z
DTEND:20260503T150000Z
DESCRIPTION:Každý si přeje mít pejska... A pejsek si přeje mít lidi! A tak je jasné\, že když se v domácnosti objeví Dášeňka\, malinké štěňátko foxteriéra. Je to veliká radost..... Ale také starost. Musí se naučit chodit a jíst a sedět a štěkat a kousat a... No\, zkrátka vše pro to\, aby byla správným a spořádaným pejskem! Hraje soubor Říše loutek. Pro děti od 3 let\, délka představení 40 minut
LOCATION:Ústřední knihovna (Sál Říše loutek foyer)
URL;VALUE=URI:https://www.mlp.cz/cz/akce/dasenka-7/6913
END:VEVENT
END:VCALENDAR