BEGIN:VCALENDAR
VERSION:2.0
PRODID:Spatie calendar-links
BEGIN:VEVENT
UID:mlp_6915
SUMMARY:Sněhurka
DTSTAMP:20260509T120000Z
DTSTART:20260509T120000Z
DTEND:20260509T130000Z
DESCRIPTION:O krásné Sněhurce\, skoro stejně krásné královně\, sedmi trpaslících a také o tom\, že vše\, co je krásné navenek\, nemusí být krásné uvnitř (a naopak). Pohádkový muzikál s řezbovanými loutkami a živou hudbou. Hraje Ilegumova divadelní společnost Pro děti od tří let\, délka 45 minut.
LOCATION:Ústřední knihovna (Sál Říše loutek foyer)
URL;VALUE=URI:https://www.mlp.cz/cz/akce/snehurka/6915
END:VEVENT
END:VCALENDAR