BEGIN:VCALENDAR
VERSION:2.0
PRODID:Spatie calendar-links
BEGIN:VEVENT
UID:mlp_6919
SUMMARY:Kominická pohádka
DTSTAMP:20260517T120000Z
DTSTART:20260517T120000Z
DTEND:20260517T130000Z
DESCRIPTION:Byl jednou jeden kominík. Smejčil komíny. Smejčil\, smejčil a zase smejčil. Trochu nuda ne? Kdepak! Jednou totiž zase smejčil a smejčil a najednou se ozvalo "mňau!" Co z toho bylo a jaká všechna dobrodružství zažil na střechách\, se dozvíte v naší veselé a hravé pohádce pro nejmenší. Hrají členové Divadla Říše loutek.
LOCATION:Ústřední knihovna (Foyer Říše loutek)
URL;VALUE=URI:https://www.mlp.cz/cz/akce/kominicka-pohadka-13/6919
END:VEVENT
END:VCALENDAR