BEGIN:VCALENDAR
VERSION:2.0
PRODID:Spatie calendar-links
BEGIN:VEVENT
UID:mlp_6921
SUMMARY:Kominická pohádka
DTSTAMP:20260517T140000Z
DTSTART:20260517T140000Z
DTEND:20260517T150000Z
DESCRIPTION:Byl jednou jeden kominík. Smejčil komíny. Smejčil\, smejčil a zase smejčil. Trochu nuda ne? Kdepak! Jednou totiž zase smejčil a smejčil a najednou se ozvalo "mňau!" Co z toho bylo a jaká všechna dobrodružství zažil na střechách\, se dozvíte v naší veselé a hravé pohádce pro nejmenší. Hrají členové Divadla Říše loutek.
LOCATION:Ústřední knihovna (Foyer Říše loutek)
URL;VALUE=URI:https://www.mlp.cz/cz/akce/kominicka-pohadka-14/6921
END:VEVENT
END:VCALENDAR